BEGIN:VCALENDAR
VERSION:2.0
PRODID:-//Trawler-Calendar-Tool 0.2
METHOD:PUBLISH
BEGIN:VTIMEZONE
TZID:Europe/Berlin
BEGIN:STANDARD
TZNAME:CET
DTSTART:20100101T010000
RRULE:FREQ=YEARLY;BYDAY=-1SU;BYMONTH=10
TZOFFSETFROM:+0200
TZOFFSETTO:+0100
END:STANDARD
BEGIN:DAYLIGHT
TZNAME:CEST
DTSTART:20100101T010000
RRULE:FREQ=YEARLY;BYDAY=-1SU;BYMONTH=3
TZOFFSETFROM:+0100
TZOFFSETTO:+0200
END:DAYLIGHT
END:VTIMEZONE
X-WR-TIMEZONE:Europe/Berlin
X-ORIGINAL-URL:https://www.spd-badschoenborn.de/termine/
BEGIN:VEVENT
DTSTART;TZID=Europe/Berlin:20260503T093000
DTEND;TZID=Europe/Berlin:20260503T130000
LOCATION:Kraichgauhalle
SUMMARY:Bad Schönborner Frühlingsbrunch
DESCRIPTION:Am 3. Mai ist es wieder soweit: Das große Bad
   Schönborner Frühlingsfrühstück findet in der
   Kraichgauhalle in Langenbrücken  statt. In diesem Jahr bieten
   wir neben einem reichhaltigen\, ausgewogenen und herzhaften
   Frühstücksangebot am Buffet wieder einige Köstlichkeiten
   vom Grill an. Freuen Sie sich also auf eine große Auswahl beim
   Bad Schönborner Frühlingsbrunch. Für Kinder haben die
   Jusos ein eigenes Kinderbetreuungs-Programm zusammengestellt. In der Mal-
   und Bastelecke können sie nach dem Brunchen ganz kreativ sein.
   Brunch\, Frühlingsstimmung\, Quiz und Kinderbetreuung erwartet Sie am
   3. Mai von 9:30 bis 13 Uhr in der Kraichgauhalle Bad Schönborn.
   Brunch-Preise: „All you can eat“ Erwachsene 14\,50 €\,
   Kinder und Jugendliche (U18) 7 €\, Kinder unter 6 Jahren frei! Tisch
   telefonisch reservieren: 31451 oder 70379. Oder direkt online hier reservieren. 
X-ALT-DESC;FMTTYPE=text/plain:Am 3. Mai ist es&nbsp\;wieder soweit: Das gro&szlig\;e Bad
   Sch&ouml\;nborner Fr&uuml\;hlingsfr&uuml\;hst&uuml\;ck findet in der
   Kraichgauhalle in Langenbr&uuml\;cken&nbsp\; statt. In diesem Jahr bieten
   wir neben einem reichhaltigen\, ausgewogenen und herzhaften
   Fr&uuml\;hst&uuml\;cksangebot am Buffet wieder einige K&ouml\;stlichkeiten
   vom Grill an. Freuen Sie sich also auf&nbsp\;eine gro&szlig\;e Auswahl beim
   Bad Sch&ouml\;nborner Fr&uuml\;hlingsbrunch. F&uuml\;r Kinder haben die
   Jusos ein eigenes Kinderbetreuungs-Programm zusammengestellt. In der Mal-
   und Bastelecke k&ouml\;nnen sie nach dem Brunchen ganz kreativ sein.
   Brunch\, Fr&uuml\;hlingsstimmung\, Quiz und Kinderbetreuung erwartet Sie am
   3. Mai von 9:30 bis 13 Uhr in der Kraichgauhalle Bad Sch&ouml\;nborn.
   Brunch-Preise: &bdquo\;All you can eat&ldquo\; Erwachsene 14\,50 &euro\;\,
   Kinder und Jugendliche (U18) 7 &euro\;\, Kinder unter 6 Jahren frei! Tisch
   telefonisch reservieren: 31451 oder 70379. Oder direkt online hier reservieren.&nbsp\;
PRIORITY:5
UID:wscms192757-badschoen-0bcd8cd1d351cea3fb74e3bf447da139
URL:https://www.spd-badschoenborn.de/calendar192757.ics
END:VEVENT
END:VCALENDAR